Package: gpuMagic Version: 1.25.1 Command: rm -rf gpuMagic.buildbin-libdir && mkdir gpuMagic.buildbin-libdir && /Users/biocbuild/BBS/utils/build-universal.sh gpuMagic_1.25.1.tar.gz /Library/Frameworks/R.framework/Resources/bin/R gpuMagic.buildbin-libdir StartedAt: 2025-10-01 01:45:41 -0400 (Wed, 01 Oct 2025) EndedAt: 2025-10-01 01:46:14 -0400 (Wed, 01 Oct 2025) EllapsedTime: 33.5 seconds RetCode: 0 Status: OK PackageFile: gpuMagic_1.25.1.tgz PackageFileSize: 1.487 MiB