Package: gpls Version: 1.81.0 Command: /Library/Frameworks/R.framework/Resources/bin/R CMD INSTALL gpls StartedAt: 2025-05-22 15:05:46 -0400 (Thu, 22 May 2025) EndedAt: 2025-05-22 15:05:59 -0400 (Thu, 22 May 2025) EllapsedTime: 13.5 seconds RetCode: 0 Status: OK