Package: goseq Version: 1.59.0 Command: /Library/Frameworks/R.framework/Resources/bin/R CMD check --install=check:goseq.install-out.txt --library=/Library/Frameworks/R.framework/Resources/library --no-vignettes --timings goseq_1.59.0.tar.gz StartedAt: 2025-02-19 19:36:16 -0500 (Wed, 19 Feb 2025) EndedAt: 2025-02-19 19:38:21 -0500 (Wed, 19 Feb 2025) EllapsedTime: 124.5 seconds RetCode: 0 Status: OK CheckDir: goseq.Rcheck Warnings: 0