Package: goatea Version: 0.99.9 Command: /Library/Frameworks/R.framework/Resources/bin/R CMD INSTALL goatea StartedAt: 2025-10-14 15:24:48 -0400 (Tue, 14 Oct 2025) EndedAt: 2025-10-14 15:25:00 -0400 (Tue, 14 Oct 2025) EllapsedTime: 11.3 seconds RetCode: 0 Status: OK