Package: goatea Version: 0.99.9 Command: /Library/Frameworks/R.framework/Resources/bin/R CMD build --keep-empty-dirs --no-resave-data goatea StartedAt: 2025-10-15 16:34:15 -0400 (Wed, 15 Oct 2025) EndedAt: 2025-10-15 16:35:12 -0400 (Wed, 15 Oct 2025) EllapsedTime: 57.6 seconds RetCode: 0 Status: OK PackageFile: goatea_0.99.9.tar.gz PackageFileSize: 1.837 MiB