Package: goatea Version: 0.99.9 Command: rm -rf goatea.buildbin-libdir && mkdir goatea.buildbin-libdir && /Users/biocbuild/BBS/utils/build-universal.sh goatea_0.99.9.tar.gz /Library/Frameworks/R.framework/Resources/bin/R goatea.buildbin-libdir StartedAt: 2025-10-15 22:47:58 -0400 (Wed, 15 Oct 2025) EndedAt: 2025-10-15 22:48:10 -0400 (Wed, 15 Oct 2025) EllapsedTime: 12.2 seconds RetCode: 0 Status: OK PackageFile: goatea_0.99.9.tgz PackageFileSize: 2.023 MiB