Package: goatea Version: 1.1.3 Maintainer: Maurits Unkel MaintainerEmail: mauritsunkel at gmail.com git_url: https://git.bioconductor.org/packages/goatea git_branch: devel git_last_commit: fb910ce git_last_commit_date: 2025-11-12 10:10:18 -0500 (Wed, 12 Nov 2025)