Package: goTools Version: 1.83.0 Command: /home/biocbuild/R/R/bin/R CMD INSTALL goTools StartedAt: 2025-10-16 22:10:23 -0000 (Thu, 16 Oct 2025) EndedAt: 2025-10-16 22:10:39 -0000 (Thu, 16 Oct 2025) EllapsedTime: 16.5 seconds RetCode: 0 Status: OK