Package: goTools Version: 1.83.0 Command: /home/biocbuild/R/R/bin/R CMD build --keep-empty-dirs --no-resave-data goTools StartedAt: 2025-10-17 01:42:29 -0000 (Fri, 17 Oct 2025) EndedAt: 2025-10-17 01:42:53 -0000 (Fri, 17 Oct 2025) EllapsedTime: 24.0 seconds RetCode: 0 Status: OK PackageFile: goTools_1.83.0.tar.gz PackageFileSize: 235 KiB