Package: goSorensen Version: 1.11.0 Command: /home/biocbuild/bbs-3.22-bioc/R/bin/R CMD build --keep-empty-dirs --no-resave-data --md5 goSorensen StartedAt: 2025-10-09 18:00:36 -0400 (Thu, 09 Oct 2025) EndedAt: 2025-10-09 18:03:54 -0400 (Thu, 09 Oct 2025) EllapsedTime: 198.2 seconds RetCode: 0 Status: OK PackageFile: goSorensen_1.11.0.tar.gz PackageFileSize: 962.9 KiB