Package: goProfiles Version: 1.71.0 Command: chmod a+r goProfiles -R && F:\biocbuild\bbs-3.22-bioc\R\bin\R.exe CMD build --keep-empty-dirs --no-resave-data goProfiles StartedAt: 2025-08-14 20:35:50 -0400 (Thu, 14 Aug 2025) EndedAt: 2025-08-14 20:37:02 -0400 (Thu, 14 Aug 2025) EllapsedTime: 71.6 seconds RetCode: 0 Status: OK PackageFile: goProfiles_1.71.0.tar.gz PackageFileSize: 288.5 KiB