Package: goProfiles Version: 1.69.0 Command: /Library/Frameworks/R.framework/Resources/bin/R CMD check --install=check:goProfiles.install-out.txt --library=/Library/Frameworks/R.framework/Resources/library --no-vignettes --timings goProfiles_1.69.0.tar.gz StartedAt: 2025-02-02 20:46:29 -0500 (Sun, 02 Feb 2025) EndedAt: 2025-02-02 20:49:31 -0500 (Sun, 02 Feb 2025) EllapsedTime: 181.9 seconds RetCode: 0 Status: OK CheckDir: goProfiles.Rcheck Warnings: 0