Package: goProfiles Version: 1.71.0 Maintainer: Alex Sanchez MaintainerEmail: asanchez at ub.edu git_url: https://git.bioconductor.org/packages/goProfiles git_branch: devel git_last_commit: cfc5b79 git_last_commit_date: 2025-04-15 09:41:58 -0400 (Tue, 15 Apr 2025)