Package: gmoviz Version: 1.21.0 Command: rm -rf gmoviz.buildbin-libdir && mkdir gmoviz.buildbin-libdir && /Users/biocbuild/BBS/utils/build-universal.sh gmoviz_1.21.0.tar.gz /Library/Frameworks/R.framework/Resources/bin/R gmoviz.buildbin-libdir StartedAt: 2025-05-05 00:49:29 -0400 (Mon, 05 May 2025) EndedAt: 2025-05-05 00:50:24 -0400 (Mon, 05 May 2025) EllapsedTime: 54.6 seconds RetCode: 0 Status: OK PackageFile: gmoviz_1.21.0.tgz PackageFileSize: 6.762 MiB