Package: gmapR Version: 1.51.1 Command: /home/biocbuild/bbs-3.22-bioc/R/bin/R CMD INSTALL gmapR StartedAt: 2025-09-30 15:41:03 -0400 (Tue, 30 Sep 2025) EndedAt: 2025-09-30 15:47:57 -0400 (Tue, 30 Sep 2025) EllapsedTime: 414.3 seconds RetCode: 0 Status: OK