Package: gmapR Version: 1.51.1 Command: /home/biocbuild/bbs-3.22-bioc/R/bin/R CMD build --keep-empty-dirs --no-resave-data --md5 gmapR StartedAt: 2025-09-30 17:51:48 -0400 (Tue, 30 Sep 2025) EndedAt: 2025-09-30 17:59:35 -0400 (Tue, 30 Sep 2025) EllapsedTime: 467.4 seconds RetCode: 0 Status: OK PackageFile: gmapR_1.51.1.tar.gz PackageFileSize: 28.62 MiB