Package: gmapR Version: 1.51.0 Maintainer: Michael Lawrence MaintainerEmail: michafla at gene.com git_url: https://git.bioconductor.org/packages/gmapR git_branch: devel git_last_commit: 84ae920 git_last_commit_date: 2025-04-15 10:14:37 -0400 (Tue, 15 Apr 2025)