Package: globaltest Version: 5.63.0 Command: /Library/Frameworks/R.framework/Resources/bin/R CMD build --keep-empty-dirs --no-resave-data globaltest StartedAt: 2025-05-09 16:34:06 -0400 (Fri, 09 May 2025) EndedAt: 2025-05-09 17:14:06 -0400 (Fri, 09 May 2025) EllapsedTime: 2400.0 seconds RetCode: None Status: TIMEOUT PackageFile: None PackageFileSize: NA