Package: globalSeq Version: 1.37.0 Command: rm -rf globalSeq.buildbin-libdir && mkdir globalSeq.buildbin-libdir && F:\biocbuild\bbs-3.22-bioc\R\bin\R.exe CMD INSTALL --build --library=globalSeq.buildbin-libdir globalSeq_1.37.0.tar.gz StartedAt: 2025-08-15 10:24:08 -0400 (Fri, 15 Aug 2025) EndedAt: 2025-08-15 10:24:30 -0400 (Fri, 15 Aug 2025) EllapsedTime: 22.5 seconds RetCode: 0 Status: OK PackageFile: globalSeq_1.37.0.zip PackageFileSize: 715.8 KiB