Package: glmSparseNet Version: 1.27.0 Command: /home/biocbuild/R/R/bin/R CMD build --keep-empty-dirs --no-resave-data glmSparseNet StartedAt: 2025-09-30 00:19:20 -0000 (Tue, 30 Sep 2025) EndedAt: 2025-09-30 00:25:46 -0000 (Tue, 30 Sep 2025) EllapsedTime: 386.1 seconds RetCode: 0 Status: OK PackageFile: glmSparseNet_1.27.0.tar.gz PackageFileSize: 2.209 MiB