Package: glmGamPoi Version: 1.19.4 Command: rm -rf glmGamPoi.buildbin-libdir && mkdir glmGamPoi.buildbin-libdir && E:\biocbuild\bbs-3.21-bioc\R\bin\R.exe CMD INSTALL --build --library=glmGamPoi.buildbin-libdir glmGamPoi_1.19.4.tar.gz StartedAt: 2025-02-17 07:38:41 -0500 (Mon, 17 Feb 2025) EndedAt: 2025-02-17 07:39:58 -0500 (Mon, 17 Feb 2025) EllapsedTime: 77.8 seconds RetCode: 0 Status: OK PackageFile: glmGamPoi_1.19.4.zip PackageFileSize: 1.736 MiB