Package: glmGamPoi Version: 1.19.2 Command: /Library/Frameworks/R.framework/Resources/bin/R CMD build --keep-empty-dirs --no-resave-data glmGamPoi StartedAt: 2025-01-31 16:29:42 -0500 (Fri, 31 Jan 2025) EndedAt: 2025-01-31 16:33:34 -0500 (Fri, 31 Jan 2025) EllapsedTime: 231.4 seconds RetCode: 0 Status: OK PackageFile: glmGamPoi_1.19.2.tar.gz PackageFileSize: 2.086 MiB