Package: ginmappeR Version: 1.5.0 Command: /home/biocbuild/bbs-3.22-bioc/R/bin/R CMD INSTALL ginmappeR StartedAt: 2025-10-16 16:17:57 -0400 (Thu, 16 Oct 2025) EndedAt: 2025-10-16 16:18:18 -0400 (Thu, 16 Oct 2025) EllapsedTime: 21.3 seconds RetCode: 0 Status: OK