Package: ggtreeSpace Version: 1.5.0 Command: rm -rf ggtreeSpace.buildbin-libdir && mkdir ggtreeSpace.buildbin-libdir && F:\biocbuild\bbs-3.22-bioc\R\bin\R.exe CMD INSTALL --build --library=ggtreeSpace.buildbin-libdir ggtreeSpace_1.5.0.tar.gz StartedAt: 2025-08-15 10:23:37 -0400 (Fri, 15 Aug 2025) EndedAt: 2025-08-15 10:24:03 -0400 (Fri, 15 Aug 2025) EllapsedTime: 26.6 seconds RetCode: 0 Status: OK PackageFile: ggtreeSpace_1.5.0.zip PackageFileSize: 349.8 KiB