Package: ggtreeSpace Version: 1.3.0 Command: /home/biocbuild/R/R/bin/R CMD INSTALL ggtreeSpace StartedAt: 2025-01-10 20:05:35 -0000 (Fri, 10 Jan 2025) EndedAt: 2025-01-10 20:05:47 -0000 (Fri, 10 Jan 2025) EllapsedTime: 12.2 seconds RetCode: 0 Status: OK