Package: ggtreeSpace Version: 1.3.0 Command: /home/biocbuild/R/R/bin/R CMD check --install=check:ggtreeSpace.install-out.txt --library=/home/biocbuild/R/R/site-library --no-vignettes --timings ggtreeSpace_1.3.0.tar.gz StartedAt: 2025-01-11 07:09:15 -0000 (Sat, 11 Jan 2025) EndedAt: 2025-01-11 07:11:46 -0000 (Sat, 11 Jan 2025) EllapsedTime: 151.1 seconds RetCode: 0 Status: WARNINGS CheckDir: ggtreeSpace.Rcheck Warnings: 1