Package: ggtreeDendro Version: 1.11.0 Command: chmod a+r ggtreeDendro -R && F:\biocbuild\bbs-3.22-bioc\R\bin\R.exe CMD build --keep-empty-dirs --no-resave-data ggtreeDendro StartedAt: 2025-08-14 20:31:57 -0400 (Thu, 14 Aug 2025) EndedAt: 2025-08-14 20:32:20 -0400 (Thu, 14 Aug 2025) EllapsedTime: 23.2 seconds RetCode: 0 Status: OK PackageFile: ggtreeDendro_1.11.0.tar.gz PackageFileSize: 148.4 KiB