Package: ggtreeDendro Version: 1.11.0 Command: rm -rf ggtreeDendro.buildbin-libdir && mkdir ggtreeDendro.buildbin-libdir && /Users/biocbuild/BBS/utils/build-universal.sh ggtreeDendro_1.11.0.tar.gz /Library/Frameworks/R.framework/Resources/bin/R ggtreeDendro.buildbin-libdir StartedAt: 2025-10-18 03:00:34 -0400 (Sat, 18 Oct 2025) EndedAt: 2025-10-18 03:00:46 -0400 (Sat, 18 Oct 2025) EllapsedTime: 11.7 seconds RetCode: 0 Status: OK PackageFile: ggtreeDendro_1.11.0.tgz PackageFileSize: 434.3 KiB