Package: ggtreeDendro Version: 1.11.0 Maintainer: Guangchuang Yu MaintainerEmail: guangchuangyu at gmail.com git_url: https://git.bioconductor.org/packages/ggtreeDendro git_branch: devel git_last_commit: 35768c1 git_last_commit_date: 2025-04-15 12:57:35 -0400 (Tue, 15 Apr 2025)