Package: ggtree Version: 3.17.0 Command: /Library/Frameworks/R.framework/Resources/bin/R CMD INSTALL ggtree StartedAt: 2025-05-02 15:11:04 -0400 (Fri, 02 May 2025) EndedAt: 2025-05-02 15:11:42 -0400 (Fri, 02 May 2025) EllapsedTime: 37.9 seconds RetCode: 0 Status: OK