Package: ggtree Version: 3.17.0 Command: /Library/Frameworks/R.framework/Resources/bin/R CMD check --install=check:ggtree.install-out.txt --library=/Library/Frameworks/R.framework/Resources/library --no-vignettes --timings ggtree_3.17.0.tar.gz StartedAt: 2025-05-07 19:49:35 -0400 (Wed, 07 May 2025) EndedAt: 2025-05-07 19:50:05 -0400 (Wed, 07 May 2025) EllapsedTime: 30.4 seconds RetCode: 0 Status: OK CheckDir: ggtree.Rcheck Warnings: 0