Package: ggtree Version: 3.17.0 Command: rm -rf ggtree.buildbin-libdir && mkdir ggtree.buildbin-libdir && /Users/biocbuild/BBS/utils/build-universal.sh ggtree_3.17.0.tar.gz /Library/Frameworks/R.framework/Resources/bin/R ggtree.buildbin-libdir StartedAt: 2025-05-07 22:57:07 -0400 (Wed, 07 May 2025) EndedAt: 2025-05-07 22:57:12 -0400 (Wed, 07 May 2025) EllapsedTime: 5.1 seconds RetCode: 0 Status: OK PackageFile: ggtree_3.17.0.tgz PackageFileSize: 909.8 KiB