Package: ggspavis Version: 1.15.9 Command: /home/biocbuild/bbs-3.22-bioc/R/bin/R CMD INSTALL ggspavis StartedAt: 2025-10-13 15:27:04 -0400 (Mon, 13 Oct 2025) EndedAt: 2025-10-13 15:27:29 -0400 (Mon, 13 Oct 2025) EllapsedTime: 25.5 seconds RetCode: 0 Status: OK