Package: ggspavis Version: 1.15.9 Command: /home/biocbuild/bbs-3.22-bioc/R/bin/R CMD build --keep-empty-dirs --no-resave-data --md5 ggspavis StartedAt: 2025-10-13 17:53:29 -0400 (Mon, 13 Oct 2025) EndedAt: 2025-10-13 17:56:43 -0400 (Mon, 13 Oct 2025) EllapsedTime: 194.1 seconds RetCode: 0 Status: OK PackageFile: ggspavis_1.15.9.tar.gz PackageFileSize: 6.91 MiB