Package: ggspavis Version: 1.13.0 Command: /Library/Frameworks/R.framework/Resources/bin/R CMD INSTALL ggspavis StartedAt: 2025-02-03 15:20:13 -0500 (Mon, 03 Feb 2025) EndedAt: 2025-02-03 15:20:48 -0500 (Mon, 03 Feb 2025) EllapsedTime: 35.0 seconds RetCode: 0 Status: OK