Package: ggspavis Version: 1.13.0 Command: /home/biocbuild/R/R/bin/R CMD check --install=check:ggspavis.install-out.txt --library=/home/biocbuild/R/R/site-library --no-vignettes --timings ggspavis_1.13.0.tar.gz StartedAt: 2025-01-28 11:06:42 -0000 (Tue, 28 Jan 2025) EndedAt: 2025-01-28 11:12:24 -0000 (Tue, 28 Jan 2025) EllapsedTime: 342.3 seconds RetCode: 0 Status: OK CheckDir: ggspavis.Rcheck Warnings: 0