Package: ggspavis Version: 1.13.0 Command: /Library/Frameworks/R.framework/Resources/bin/R CMD check --install=check:ggspavis.install-out.txt --library=/Library/Frameworks/R.framework/Resources/library --no-vignettes --timings ggspavis_1.13.0.tar.gz StartedAt: 2025-02-03 20:04:57 -0500 (Mon, 03 Feb 2025) EndedAt: 2025-02-03 20:06:31 -0500 (Mon, 03 Feb 2025) EllapsedTime: 94.3 seconds RetCode: 0 Status: OK CheckDir: ggspavis.Rcheck Warnings: 0