Package: ggspavis Version: 1.13.0 Maintainer: Lukas M. Weber MaintainerEmail: lmweberedu at gmail.com git_url: https://git.bioconductor.org/packages/ggspavis git_branch: devel git_last_commit: 479bf59 git_last_commit_date: 2024-10-29 11:03:17 -0500 (Tue, 29 Oct 2024)