Package: ggsc Version: 1.5.0 Command: /home/biocbuild/bbs-3.21-bioc/R/bin/R CMD INSTALL ggsc StartedAt: 2025-02-04 15:17:12 -0500 (Tue, 04 Feb 2025) EndedAt: 2025-02-04 15:18:09 -0500 (Tue, 04 Feb 2025) EllapsedTime: 56.3 seconds RetCode: 0 Status: OK