Package: ggsc Version: 1.5.0 Command: /home/biocbuild/bbs-3.21-bioc/R/bin/R CMD build --keep-empty-dirs --no-resave-data ggsc StartedAt: 2025-02-04 17:23:57 -0500 (Tue, 04 Feb 2025) EndedAt: 2025-02-04 17:24:56 -0500 (Tue, 04 Feb 2025) EllapsedTime: 59.1 seconds RetCode: 0 Status: OK PackageFile: ggsc_1.5.0.tar.gz PackageFileSize: 81.26 KiB