Package: ggsc Version: 1.5.0 Command: rm -rf ggsc.buildbin-libdir && mkdir ggsc.buildbin-libdir && /Users/biocbuild/BBS/utils/build-universal.sh ggsc_1.5.0.tar.gz /Library/Frameworks/R.framework/Resources/bin/R ggsc.buildbin-libdir StartedAt: 2025-02-10 00:55:59 -0500 (Mon, 10 Feb 2025) EndedAt: 2025-02-10 00:57:17 -0500 (Mon, 10 Feb 2025) EllapsedTime: 77.8 seconds RetCode: 0 Status: OK PackageFile: ggsc_1.5.0.tgz PackageFileSize: 359.1 KiB