Package: ggsc Version: 1.5.0 Command: /home/biocbuild/R/R/bin/R CMD build --keep-empty-dirs --no-resave-data ggsc StartedAt: 2025-01-28 23:12:54 -0000 (Tue, 28 Jan 2025) EndedAt: 2025-01-28 23:14:19 -0000 (Tue, 28 Jan 2025) EllapsedTime: 85.0 seconds RetCode: 0 Status: OK PackageFile: ggsc_1.5.0.tar.gz PackageFileSize: 83.01 KiB