Package: ggsc Version: 1.5.0 Command: /Library/Frameworks/R.framework/Resources/bin/R CMD check --install=check:ggsc.install-out.txt --library=/Library/Frameworks/R.framework/Resources/library --no-vignettes --timings ggsc_1.5.0.tar.gz StartedAt: 2025-02-04 19:29:37 -0500 (Tue, 04 Feb 2025) EndedAt: 2025-02-04 19:31:34 -0500 (Tue, 04 Feb 2025) EllapsedTime: 117.5 seconds RetCode: 0 Status: OK CheckDir: ggsc.Rcheck Warnings: 0