Package: ggsc Version: 1.5.0 Command: /Library/Frameworks/R.framework/Resources/bin/R CMD build --keep-empty-dirs --no-resave-data ggsc StartedAt: 2025-02-04 16:28:20 -0500 (Tue, 04 Feb 2025) EndedAt: 2025-02-04 16:28:40 -0500 (Tue, 04 Feb 2025) EllapsedTime: 20.3 seconds RetCode: 0 Status: OK PackageFile: ggsc_1.5.0.tar.gz PackageFileSize: 81.21 KiB