Package: ggmanh Version: 1.13.0 Command: /home/biocbuild/bbs-3.22-bioc/R/bin/R CMD INSTALL ggmanh StartedAt: 2025-10-16 16:33:41 -0400 (Thu, 16 Oct 2025) EndedAt: 2025-10-16 16:33:46 -0400 (Thu, 16 Oct 2025) EllapsedTime: 4.9 seconds RetCode: 0 Status: OK