Package: ggmanh Version: 1.11.0 Command: /Library/Frameworks/R.framework/Resources/bin/R CMD INSTALL ggmanh StartedAt: 2025-01-31 15:06:35 -0500 (Fri, 31 Jan 2025) EndedAt: 2025-01-31 15:06:38 -0500 (Fri, 31 Jan 2025) EllapsedTime: 2.2 seconds RetCode: 0 Status: OK