Package: ggmanh Version: 1.13.0 Command: /Library/Frameworks/R.framework/Resources/bin/R CMD build --keep-empty-dirs --no-resave-data ggmanh StartedAt: 2025-04-28 16:26:09 -0400 (Mon, 28 Apr 2025) EndedAt: 2025-04-28 16:26:30 -0400 (Mon, 28 Apr 2025) EllapsedTime: 21.3 seconds RetCode: 0 Status: OK PackageFile: ggmanh_1.13.0.tar.gz PackageFileSize: 4.413 MiB