Package: ggkegg Version: 1.7.2 Command: /home/biocbuild/R/R/bin/R CMD build --keep-empty-dirs --no-resave-data ggkegg StartedAt: 2025-10-06 23:59:22 -0000 (Mon, 06 Oct 2025) EndedAt: 2025-10-07 00:01:47 -0000 (Tue, 07 Oct 2025) EllapsedTime: 145.1 seconds RetCode: 0 Status: OK PackageFile: ggkegg_1.7.2.tar.gz PackageFileSize: 2.65 MiB