Package: ggkegg Version: 1.7.2 Command: /Library/Frameworks/R.framework/Resources/bin/R CMD build --keep-empty-dirs --no-resave-data ggkegg StartedAt: 2025-10-06 17:12:16 -0400 (Mon, 06 Oct 2025) EndedAt: 2025-10-06 17:12:57 -0400 (Mon, 06 Oct 2025) EllapsedTime: 41.1 seconds RetCode: 0 Status: OK PackageFile: ggkegg_1.7.2.tar.gz PackageFileSize: 3.518 MiB