Package: ggkegg Version: 1.5.1 Command: /Library/Frameworks/R.framework/Resources/bin/R CMD INSTALL ggkegg StartedAt: 2025-02-19 15:07:20 -0500 (Wed, 19 Feb 2025) EndedAt: 2025-02-19 15:07:25 -0500 (Wed, 19 Feb 2025) EllapsedTime: 4.2 seconds RetCode: 0 Status: OK